Workbook

Sheet Plan1
A1: PROCESSO SUPERMECADO RIACHUELO
A2: FLS | B2: DATA | C2: BANCO | D2: CONTA | E2: VALOR R$ | F2: OBSERVAÇÃO
A3: 6 | B3: 33168 | E3: 18250.37 | F3: "custas processuais"
A4: 493 | B4: 33171 | C4: besc | D4: 3116944-9 | E4: 50000 | F4: Cardeneta de Poupança em favor do Riachuelo
A5: 539 | B5: 33197 | E5: 50000 | F5: Levantamento do valor
A6: 603 | B6: 33312 | C6: besc | D6: 3333150-2 | E6: 114015.4 | F6: Cardeneta de Poupança em favor de Vilmar Gorges
A7: 604 | B7: 33312 | C7: besc | D7: 3333149-9 | E7: 5984.6 | F7: Cardeneta de Poupança em favor de 1° Vara cível
A8: 814 | B8: 33480 | C8: besc | D8: 3428555-5 | E8: 45173 | F8: Cardeneta de Poupança em favor da Massa Falida
A9: 816 | B9: 33473 | C9: besc | D9: 3428555-5 | E9: 119154 | F9: Cardeneta de Poupança em favor da Massa Falida - Valor recolhido do caixa da panificadora
A10: 955 | B10: 33567 | C10: banco do brasil | D10: 47001 | E10: 243698.16 | F10: Extrato
A11: 968 | B11: 33480 | C11: besc | D11: 3428555-5 | E11: 135408 | F11: Saque
A12: 1204 | B12: 33750 | D12: 33331 | E12: 114015.4 | F12: saque + juros
A13: 1245 | B13: 33815 | C13: besc | D13: 3616422-4 | E13: 24200000 | F13: Cardeneta de Poupança em favor 1° Civel - arrematação de bens
D14: 3616433-0 | E14: 96800000 | F14: Cardeneta de Poupança em favor 1° Civel - arrematação de bens
A15: 1590 | B15: 33990 | C15: besc | D15: 3616422-4 | E15: 1022700 | F15: Cardeneta de Poupança em favor 1° Civel - saldo de publicação de avisos
A16: 1593 | B16: 33987 | D16: 3616422-4 | E16: 2044660.8 | F16: saque
A17: 1657 | B17: 34123 | D17: 3616433-0 | E17: 4.8402824e+08 | F17: saque
A38: IMOVEIS/ MÓVEIS
A39: FLS | B39: ENDEREÇO | H39: OBSERVAÇÃO
A40: 8 | B40: Rua Jeronimo Coelho n.° 40 | H40: Contrato de Locação com OGB
A41: 11 | B41: Rua Ministro Calógeras n.° 1440 | H41: Contrato de Locação com OGB
A42: 14 | B42: Rua Dr. João Colin n.° 1495 | H42: Contrato de Locação com OGB
A43: 46 | B43: Terreno Rural - R3-31.800 25/08/88 | H43: Laudo de Avaliação Poder Judiciario | M43: ESCRITURA FLS 2098 A 2099
A44: 47 | B44: Terreno Rural - R1-8.363 29/09/87 | H44: Laudo de Avaliação Poder Judiciario
A45: 48 | B45: Terreno Rural - R1-8.361 29/09/87 | H45: Laudo de Avaliação Poder Judiciario
A46: 50 | B46: Rua Aube - 31.403 1° Circunscrição | H46: Laudo de Avaliação - 474 Imóveis | M46: ESCRITURA FLA 2101 A 2102
A47: 654 | B47: Terreno em Schroeder - R1-8.363 | H47: Imovel no nome do Sr. Roberto Bencz
A48: 661 | B48: Terreno em Schroeder - R1-8.363 | H48: Imovel no nome do Sr. Roberto Bencz
A49: 679 | B49: Rua Tenente Antonio João 2352
A50: 765 | B50: Av. Getulio Vargas esquina com a Rua Felipep Schmidt e Rua Felipe Frenzel - Jaragua do sul - matricula 999 | H50: Contrato de Compra e Venda - 30/11/87 | M50: ESCRITURA FLS. 2114 A 2118
A51: 798 | B51: Veiculo Verona glx 1.8 | H51: Documento do carro
A52: 2089 | B52: Terreno condominio marques de olinda | H52: não achei alienação de 1 lote (lote 2 quadra A) e também parte renanescente do imovel | M52: ESCRITURA FLS 2089 A 2096
A61: AÇÕES EM ANDAMENTO
A62: PROCESSO N.° | D62: TIPO | F62: AUTOR
A63: 0900582-61.2013.8.24.0038 | D63: execução fiscal | F63: Fazenda publica Joinville
A64: 003291-90.1996.8.24.0038 | D64: execução fiscal | F64: Fazenda publica Joinville
A72: NÃO ENCONTRADO VALORES DO BANCO BRADESCO
A73: NO BANCO ITAU ENCONTROU 32,84 BACENJUD FLS 2066

Sheet Resumo
B1: SUPERMERCADO RIACHUELO
B2: CNPJ 84.684.380/0001-10
B3: RELAÇÃO DE CREDORES
B5: Quadro apresentado 25/01/2021 - Ev 556 | E5: Quadro atualizado em 30/04/2025
B6: Quadro 1 - RESUMO DE CRÉDITOS HABILITADOS POR CLASSE DE CREDORES | E6: Quadro 1 - RESUMO DE CRÉDITOS HABILITADOS POR CLASSE DE CREDORES
B7: CLASSE DE CREDORES | C7: VALOR - R$ | E7: CLASSE DE CREDORES | F7: VALOR - R$
B8: Extraconcursais | C8: ='Pref-EncargoMassa'!H38 -> 81523.86 | E8: Extraconcursais | F8: ='Pref-EncargoMassa'!M38 -> 97546.65 | I8: Cálculo da remunração da AJ | J8: R$
B9: Tributário | C9: ='Pref-Fiscal'!E332 -> 393687.22 | E9: Tributário | F9: ='Pref-Fiscal'!N174 -> 392521.91 | I9: Valores arrecadados (Contas judiciais) | J9: =#REF! -> #REF!
B10: Quirografários | C10: ='Credores Quirografarios '!#REF! -> #REF! | E10: Quirografários | F10: ='Credores Quirografarios '!I299 -> 10546460 | I10: Atualização de valores arrecadados (Contas judiciais) | J10: =#REF! -> #REF!
B11: Multas | C11: =Multa!F129 -> 116526.03 | E11: Multas | F11: =Multa!O83 -> 34854193 | J11: =SUM(J9:J10) -> #REF!
B12: TOTAL | C12: =SUM(C8:C11) -> #REF! | E12: TOTAL | F12: =SUM(F8:F11) -> 45890722 | I12: Remuneração AJ (5%) | J12: =J11*5% -> #REF!
B16: Quadro apresentado em 29/05/2026 | E16: Quadro apresentado em 11/08/2026
B17: RESUMO DE CRÉDITOS HABILITADOS POR CLASSE DE CREDORES | E17: RESUMO DE CRÉDITOS HABILITADOS POR CLASSE DE CREDORES
B18: CLASSE DE CREDORES | C18: VALOR - R$ | E18: CLASSE DE CREDORES | F18: VALOR - R$
B19: ='QGC 29.05.26'!B2 -> CRÉDITOS PREFERENCIAIS - ACIDENTÁRIOS E TRABALHISTAS | C19: ='QGC 29.05.26'!C9 -> #REF! | E19: ='QGC 11.08.26'!B2 -> CRÉDITOS PREFERENCIAIS - ACIDENTÁRIOS E TRABALHISTAS | F19: ='QGC 11.08.26'!C9 -> #REF!
B20: ='QGC 29.05.26'!B12 -> CRÉDITOS PREFERENCIAIS - FISCAIS | C20: ='QGC 29.05.26'!C125 -> 331295.84 | E20: ='QGC 11.08.26'!B12 -> CRÉDITOS PREFERENCIAIS - FISCAIS | F20: ='QGC 11.08.26'!C126 -> 331760.27
B21: ='QGC 29.05.26'!B129 -> CRÉDITOS PREFERENCIAIS - ENCARGOS DA MASSA | C21: ='QGC 29.05.26'!C136 -> 55076.87 | E21: ='QGC 11.08.26'!B130 -> CRÉDITOS PREFERENCIAIS - ENCARGOS DA MASSA | F21: ='QGC 11.08.26'!C137 -> 55076.87
B22: ='QGC 29.05.26'!B140 -> CRÉDITOS CONCURSAIS - QUIROGRAFÁRIOS | C22: ='QGC 29.05.26'!C436 -> 191702.01 | E22: ='QGC 11.08.26'!B141 -> CRÉDITOS CONCURSAIS - QUIROGRAFÁRIOS | F22: ='QGC 11.08.26'!C437 -> 191702.01
B23: TOTAL | C23: =SUM(C19:C22) -> #REF! | E23: TOTAL | F23: =SUM(F19:F22) -> #REF!

Sheet QGC - AJ
C2: Quadro 1 - RESUMO DE CRÉDITOS HABILITADOS POR CLASSE DE CREDORES
C3: CLASSE DE CREDORES | D3: VALOR - R$
C4: Extraconcursais | D4: =F35 -> 81523.86
C5: Tributário | D5: =F106 -> 1166756.6
C6: Quirografários | D6: =D404 -> 7978858.2
C7: Multas | D7: =F449 -> 116526.03
C8: TOTAL | D8: =SUM(D4:D7) -> 9343664.8
C11: Quadro 2 -CREDORES EXTRACONCURSAIS
C12: CREDOR | D12: TIPO | E12: INSCRIÇÃO | F12: REVISÃO AJ 05/03/2019 | G12: REFERÊNCIA
C13: Municipio de Joinville | D13: IPTU - Dívida Ativa | E13: 1999 | F13: =622.31+674.32 -> 1296.63 | G13: Fls. 509
C14: Municipio de Joinville | D14: IPTU - Dívida Ativa | E14: 2000 | F14: =622.31+674.32 -> 1296.63 | G14: Fls. 509
C15: Municipio de Joinville | D15: IPTU - Dívida Ativa | E15: 2001 | F15: =692.31+744.85 -> 1437.16 | G15: Fls. 509
C16: Municipio de Joinville | D16: IPTU - Dívida Ativa | E16: 2002 | F16: =767.27+698.24 -> 1465.51 | G16: Fls. 509
C17: Municipio de Joinville | D17: IPTU - Ajuizada | E17: 2003 | F17: =1020.61+505.33 -> 1525.94 | G17: Fls. 509
C18: Municipio de Joinville | D18: IPTU - Dívida Ativa | E18: 2004 | F18: =1145.69+359.86 -> 1505.55 | G18: Fls. 510
C19: Municipio de Joinville | D19: IPTU - Ajuizada | E19: 2005 | F19: =1286.41+291.29 -> 1577.7 | G19: Fls. 510
C20: Municipio de Joinville | D20: IPTU - Ajuizada | E20: 2006 | F20: =1452.35+269.92 -> 1722.27 | G20: Fls. 510
C21: Municipio de Joinville | D21: IPTU - Ajuizada | E21: 2007 | F21: =2553.25+370.17 -> 2923.42 | G21: Fls. 510
C22: Municipio de Joinville | D22: IPTU - Ajuizada | E22: 2008 | F22: =2714.99+188.76 -> 2903.75 | G22: Fls. 510
C23: Municipio de Joinville | D23: IPTU - Ajuizada | E23: 2009 | F23: =1789.18+29.75 -> 1818.93 | G23: Fls. 511
C24: Municipio de Joinville | D24: IPTU - Ajuizada | E24: 2010 | F24: =1857.44 -> 1857.44 | G24: Fls. 511
C25: Municipio de Joinville | D25: IPTU - Ajuizada | E25: 2011 | F25: 1968.9 | G25: Fls. 511
C26: Municipio de Joinville | D26: IPTU - Ajuizada | E26: 2012 | F26: 6514.58 | G26: Fls. 512
C27: Municipio de Joinville | D27: IPTU - Ajuizada | E27: 2013 | F27: 6869.51 | G27: Fls. 512
C28: Municipio de Joinville | D28: IPTU - Ajuizada | E28: 2014 | F28: 7271.51 | G28: Fls. 512
C29: Municipio de Joinville | D29: IPTU - Ajuizada | E29: 2015 | F29: 7750.74 | G29: Fls. 513
C30: Municipio de Joinville | D30: IPTU - Dívida Ativa | E30: 2016 | F30: 8515.29 | G30: Fls. 513
C31: Municipio de Joinville | D31: IPTU - Dívida Ativa | E31: 2017 | F31: 9189.37 | G31: Fls. 513
C32: Municipio de Joinville | D32: IPTU - Dívida Ativa | E32: 2018 | F32: 9418.93 | G32: Fls. 514
C33: Municipio de São José | D33: CDA 81902015 | E33: 2010 a 2013 | F33: 1202.45 | G33: Execução Fiscal n° 0312898-09.2015.8.24.0064
C34: Municipio de São José | D34: CDA 7002 | E34: 2010 a 2013 | F34: 1491.65 | G34: Execução Fiscal n° 0903736-38.2015.8.24.0064
C35: TOTAL | F35: =SUM(F13:F34) -> 81523.86
C38: Quadro 3- CREDITOS TRIBUTÁRIOS
C39: CREDOR | D39: TIPO | E39: INSCRIÇÃO | F39: REVISÃO AJ 05/03/2019 | G39: REFERÊNCIA
C40: União | D40: Dívida Ativa | E40: 91 2 94 000529-90 | F40: 3838.95 | G40: Fls. 280-286
C41: União | D41: Dívida Ativa | E41: 91 5 94 000603-67 | F41: 3033.36 | G41: Fls. 280-286
C42: União | D42: Dívida Ativa | E42: 91 5 94 000987-63 | F42: 3033.36 | G42: Fls. 280-286
C43: União | D43: Dívida Ativa | E43: 91 6 93 000561-28 | F43: 908.7 | G43: Fls. 280-286
C44: União | D44: Dívida Ativa | E44: 91 6 94 000662-06 | F44: 16838.64 | G44: Fls. 280-286
C45: União | D45: Dívida Ativa | E45: 91 6 97 030356-84 | F45: 510.14 | G45: Fls. 280-286
...

Sheet QGC 29.05.26
B2: CRÉDITOS PREFERENCIAIS - ACIDENTÁRIOS E TRABALHISTAS
B3: CREDOR | C3: Valor por crédito | D3: Valor consolidado | E3: REFERÊNCIA
B4: ='Pref-Trabalhistas'!B5 -> Municipio de Joinville | C4: ='Pref-Trabalhistas'!#REF! -> #REF! | D4: =SUM(C4:C8) -> #REF! | E4: ='Pref-Trabalhistas'!F6 -> EV. 997 - Execução Fiscal n. 0902886-57.2018.8.24.0038
B5: ='Pref-Trabalhistas'!B6 -> Municipio de Joinville | C5: ='Pref-Trabalhistas'!#REF! -> #REF! | E5: ='Pref-Trabalhistas'!F5 -> EV. 997 - Execução Fiscal n. 0903959-98.2017.8.24.0038
B6: ='Pref-Trabalhistas'!B7 -> Municipio de Joinville | C6: ='Pref-Trabalhistas'!#REF! -> #REF! | E6: ='Pref-Trabalhistas'!F9 -> EV. 997 - Execução Fiscal n. 5014350-53.2024.8.24.0023
B7: ='Pref-Trabalhistas'!B8 -> Municipio de Joinville | C7: ='Pref-Trabalhistas'!#REF! -> #REF! | E7: ='Pref-Trabalhistas'!F7 -> EV. 997 - Execução Fiscal n. 5019527-26.2019.8.24.0038
B8: ='Pref-Trabalhistas'!B9 -> Municipio de Joinville | C8: ='Pref-Trabalhistas'!#REF! -> #REF! | E8: ='Pref-Trabalhistas'!F8 -> EV. 997 - Execução Fiscal n. 5088935-47.2022.8.24.0023
B9: TOTAL DA CLASSE | C9: =SUM(C4:C8) -> #REF!
B12: CRÉDITOS PREFERENCIAIS - FISCAIS
B13: CREDOR | C13: Valor por crédito | D13: Valor consolidado | E13: REFERÊNCIA
B14: ='Pref-Fiscal'!B17 -> União | C14: ='Pref-Fiscal'!R17 -> 93.83 | D14: =SUM(C14:C16) -> 595.48 | E14: ='Pref-Fiscal'!S17 -> Ev. 868
B15: ='Pref-Fiscal'!B18 -> União | C15: ='Pref-Fiscal'!R18 -> 134.77 | E15: ='Pref-Fiscal'!S18 -> Ev. 868
B16: ='Pref-Fiscal'!B19 -> União | C16: ='Pref-Fiscal'!R19 -> 366.88 | E16: ='Pref-Fiscal'!S19 -> Ev. 868
B17: ='Pref-Fiscal'!B34&" - "&'Pref-Fiscal'!C34 -> Estado de Santa Catarina - ICMS | C17: ='Pref-Fiscal'!R34 -> 16013.43 | D17: =SUM(C17:C70) -> 314952.72 | E17: ='Pref-Fiscal'!S34&" - "&'Pref-Fiscal'!T34 -> EV. 909 - 0030402-31.1995.8.24.0023
B18: ='Pref-Fiscal'!B36&" - "&'Pref-Fiscal'!C36 -> Estado de Santa Catarina - ICMS | C18: ='Pref-Fiscal'!R36 -> 21634.85 | E18: ='Pref-Fiscal'!S36&" - "&'Pref-Fiscal'!T36 -> EV. 909 - 0000542-62.1989.8.24.0033
B19: ='Pref-Fiscal'!B37&" - "&'Pref-Fiscal'!C37 -> Estado de Santa Catarina - ICMS | C19: ='Pref-Fiscal'!R37 -> 1207.52 | E19: ='Pref-Fiscal'!S37&" - "&'Pref-Fiscal'!T37 -> EV. 909 - 0005200-70.1996.8.24.0038
B20: ='Pref-Fiscal'!B38&" - "&'Pref-Fiscal'!C38 -> Estado de Santa Catarina - ICMS | C20: ='Pref-Fiscal'!R38 -> 3220.28 | E20: ='Pref-Fiscal'!S38&" - "&'Pref-Fiscal'!T38 -> EV. 909 - 0005200-70.1996.8.24.0038
B21: ='Pref-Fiscal'!B39&" - "&'Pref-Fiscal'!C39 -> Estado de Santa Catarina - ICMS | C21: ='Pref-Fiscal'!R39 -> 12749.27 | E21: ='Pref-Fiscal'!S39&" - "&'Pref-Fiscal'!T39 -> EV. 909 - 0005200-70.1996.8.24.0038
B22: ='Pref-Fiscal'!B40&" - "&'Pref-Fiscal'!C40 -> Estado de Santa Catarina - ICMS | C22: ='Pref-Fiscal'!R40 -> 234.86 | E22: ='Pref-Fiscal'!S40&" - "&'Pref-Fiscal'!T40 -> EV. 909 - 0005200-70.1996.8.24.0038
B23: ='Pref-Fiscal'!B41&" - "&'Pref-Fiscal'!C41 -> Estado de Santa Catarina - ICMS | C23: ='Pref-Fiscal'!R41 -> 598.56 | E23: ='Pref-Fiscal'!S41&" - "&'Pref-Fiscal'!T41 -> EV. 909 - 0005200-70.1996.8.24.0038
B24: ='Pref-Fiscal'!B42&" - "&'Pref-Fiscal'!C42 -> Estado de Santa Catarina - ICMS | C24: ='Pref-Fiscal'!R42 -> 510.37 | E24: ='Pref-Fiscal'!S42&" - "&'Pref-Fiscal'!T42 -> EV. 909 - 0005200-70.1996.8.24.0038
B25: ='Pref-Fiscal'!B43&" - "&'Pref-Fiscal'!C43 -> Estado de Santa Catarina - ICMS | C25: ='Pref-Fiscal'!R43 -> 1028.04 | E25: ='Pref-Fiscal'!S43&" - "&'Pref-Fiscal'!T43 -> EV. 909 - 0005200-70.1996.8.24.0038
B26: ='Pref-Fiscal'!B44&" - "&'Pref-Fiscal'!C44 -> Estado de Santa Catarina - ICMS | C26: ='Pref-Fiscal'!R44 -> 1254.45 | E26: ='Pref-Fiscal'!S44&" - "&'Pref-Fiscal'!T44 -> EV. 909 - 0005200-70.1996.8.24.0038
B27: ='Pref-Fiscal'!B45&" - "&'Pref-Fiscal'!C45 -> Estado de Santa Catarina - ICMS | C27: ='Pref-Fiscal'!R45 -> 363.84 | E27: ='Pref-Fiscal'!S45&" - "&'Pref-Fiscal'!T45 -> EV. 909 - 0005200-70.1996.8.24.0038
B28: ='Pref-Fiscal'!B46&" - "&'Pref-Fiscal'!C46 -> Estado de Santa Catarina - ICMS | C28: ='Pref-Fiscal'!R46 -> 1761.11 | E28: ='Pref-Fiscal'!S46&" - "&'Pref-Fiscal'!T46 -> EV. 909 - 0005200-70.1996.8.24.0038
B29: ='Pref-Fiscal'!B47&" - "&'Pref-Fiscal'!C47 -> Estado de Santa Catarina - ICMS | C29: ='Pref-Fiscal'!R47 -> 3223.94 | E29: ='Pref-Fiscal'!S47&" - "&'Pref-Fiscal'!T47 -> EV. 909 - 0005200-70.1996.8.24.0038
... B70: ='Pref-Fiscal'!B88&" - "&'Pref-Fiscal'!C88 -> Estado de Santa Catarina - ICMS | C70: ='Pref-Fiscal'!R88 -> 2186.29 | E70: ='Pref-Fiscal'!S88&" - "&'Pref-Fiscal'!T88 -> EV. 909 - 0003291-90.1996.8.24.0038
B71: ='Pref-Fiscal'!B90&" - "&'Pref-Fiscal'!C90 -> Estado de Santa Catarina - FUNJURE | C71: ='Pref-Fiscal'!R90 -> 800.6715 | D71: =SUM(C71:C124) -> 15747.636 | E71: ='Pref-Fiscal'!S90&" - "&'Pref-Fiscal'!T90 -> - 0030402-31.1995.8.24.0023
B72: ='Pref-Fiscal'!B92&" - "&'Pref-Fiscal'!C92 -> Estado de Santa Catarina - FUNJURE | C72: ='Pref-Fiscal'!R92 -> 1081.7425 | E72: ='Pref-Fiscal'!S92&" - "&'Pref-Fiscal'!T92 -> - 0000542-62.1989.8.24.0033
B73: ='Pref-Fiscal'!B93&" - "&'Pref-Fiscal'!C93 -> Estado de Santa Catarina - FUNJURE | C73: ='Pref-Fiscal'!R93 -> 60.376 | E73: ='Pref-Fiscal'!S93&" - "&'Pref-Fiscal'!T93 -> - 0005200-70.1996.8.24.0038
B74: ='Pref-Fiscal'!B94&" - "&'Pref-Fiscal'!C94 -> Estado de Santa Catarina - FUNJURE | C74: ='Pref-Fiscal'!R94 -> 161.014 | E74: ='Pref-Fiscal'!S94&" - "&'Pref-Fiscal'!T94 -> - 0005200-70.1996.8.24.0038
B75: ='Pref-Fiscal'!B95&" - "&'Pref-Fiscal'!C95 -> Estado de Santa Catarina - FUNJURE | C75: ='Pref-Fiscal'!R95 -> 637.4635 | E75: ='Pref-Fiscal'!S95&" - "&'Pref-Fiscal'!T95 -> - 0005200-70.1996.8.24.0038
B76: ='Pref-Fiscal'!B96&" - "&'Pref-Fiscal'!C96 -> Estado de Santa Catarina - FUNJURE | C76: ='Pref-Fiscal'!R96 -> 11.743 | E76: ='Pref-Fiscal'!S96&" - "&'Pref-Fiscal'!T96 -> - 0005200-70.1996.8.24.0038
B77: ='Pref-Fiscal'!B97&" - "&'Pref-Fiscal'!C97 -> Estado de Santa Catarina - FUNJURE | C77: ='Pref-Fiscal'!R97 -> 29.928 | E77: ='Pref-Fiscal'!S97&" - "&'Pref-Fiscal'!T97 -> - 0005200-70.1996.8.24.0038
B78: ='Pref-Fiscal'!B98&" - "&'Pref-Fiscal'!C98 -> Estado de Santa Catarina - FUNJURE | C78: ='Pref-Fiscal'!R98 -> 25.5185 | E78: ='Pref-Fiscal'!S98&" - "&'Pref-Fiscal'!T98 -> - 0005200-70.1996.8.24.0038
B79: ='Pref-Fiscal'!B99&" - "&'Pref-Fiscal'!C99 -> Estado de Santa Catarina - FUNJURE | C79: ='Pref-Fiscal'!R99 -> 51.402 | E79: ='Pref-Fiscal'!S99&" - "&'Pref-Fiscal'!T99 -> - 0005200-70.1996.8.24.0038
B80: ='Pref-Fiscal'!B100&" - "&'Pref-Fiscal'!C100 -> Estado de Santa Catarina - FUNJURE | C80: ='Pref-Fiscal'!R100 -> 62.7225 | E80: ='Pref-Fiscal'!S100&" - "&'Pref-Fiscal'!T100 -> - 0005200-70.1996.8.24.0038
B81: ='Pref-Fiscal'!B101&" - "&'Pref-Fiscal'!C101 -> Estado de Santa Catarina - FUNJURE | C81: ='Pref-Fiscal'!R101 -> 18.192 | E81: ='Pref-Fiscal'!S101&" - "&'Pref-Fiscal'!T101 -> - 0005200-70.1996.8.24.0038
B82: ='Pref-Fiscal'!B102&" - "&'Pref-Fiscal'!C102 -> Estado de Santa Catarina - FUNJURE | C82: ='Pref-Fiscal'!R102 -> 88.0555 | E82: ='Pref-Fiscal'!S102&" - "&'Pref-Fiscal'!T102 -> - 0005200-70.1996.8.24.0038
B83: ='Pref-Fiscal'!B103&" - "&'Pref-Fiscal'!C103 -> Estado de Santa Catarina - FUNJURE | C83: ='Pref-Fiscal'!R103 -> 161.197 | E83: ='Pref-Fiscal'!S103&" - "&'Pref-Fiscal'!T103 -> - 0005200-70.1996.8.24.0038
...

Sheet QGC 11.08.26
B2: CRÉDITOS PREFERENCIAIS - ACIDENTÁRIOS E TRABALHISTAS
B3: CREDOR | C3: Valor por crédito | D3: Valor consolidado | E3: REFERÊNCIA
B4: ='Pref-Trabalhistas'!B5 -> Municipio de Joinville | C4: ='Pref-Trabalhistas'!#REF! -> #REF! | D4: =SUM(C4:C8) -> #REF! | E4: ='Pref-Trabalhistas'!F6 -> EV. 997 - Execução Fiscal n. 0902886-57.2018.8.24.0038
B5: ='Pref-Trabalhistas'!B6 -> Municipio de Joinville | C5: ='Pref-Trabalhistas'!#REF! -> #REF! | E5: ='Pref-Trabalhistas'!F5 -> EV. 997 - Execução Fiscal n. 0903959-98.2017.8.24.0038
B6: ='Pref-Trabalhistas'!B7 -> Municipio de Joinville | C6: ='Pref-Trabalhistas'!#REF! -> #REF! | E6: ='Pref-Trabalhistas'!F9 -> EV. 997 - Execução Fiscal n. 5014350-53.2024.8.24.0023
B7: ='Pref-Trabalhistas'!B8 -> Municipio de Joinville | C7: ='Pref-Trabalhistas'!#REF! -> #REF! | E7: ='Pref-Trabalhistas'!F7 -> EV. 997 - Execução Fiscal n. 5019527-26.2019.8.24.0038
B8: ='Pref-Trabalhistas'!B9 -> Municipio de Joinville | C8: ='Pref-Trabalhistas'!#REF! -> #REF! | E8: ='Pref-Trabalhistas'!F8 -> EV. 997 - Execução Fiscal n. 5088935-47.2022.8.24.0023
B9: TOTAL DA CLASSE | C9: =SUM(C4:C8) -> #REF!
B12: CRÉDITOS PREFERENCIAIS - FISCAIS
B13: CREDOR | C13: Valor por crédito | D13: Valor consolidado | E13: REFERÊNCIA
B14: ='Pref-Fiscal'!B17 -> União | C14: ='Pref-Fiscal'!R17 -> 93.83 | D14: =SUM(C14:C17) -> 1059.91 | E14: ='Pref-Fiscal'!S17 -> Ev. 868
B15: ='Pref-Fiscal'!B18 -> União | C15: ='Pref-Fiscal'!R18 -> 134.77 | E15: ='Pref-Fiscal'!S18 -> Ev. 868
B16: União | C16: ='Pref-Fiscal'!R19 -> 366.88 | E16: Ev. 868
B17: ='Pref-Fiscal'!B19 -> União | C17: ='Pref-Fiscal'!R20 -> 464.43 | E17: ='Pref-Fiscal'!S19 -> Ev. 868
B18: ='Pref-Fiscal'!B34&" - "&'Pref-Fiscal'!C34 -> Estado de Santa Catarina - ICMS | C18: ='Pref-Fiscal'!R34 -> 16013.43 | D18: =SUM(C18:C71) -> 314952.72 | E18: ='Pref-Fiscal'!S34&" - "&'Pref-Fiscal'!T34 -> EV. 909 - 0030402-31.1995.8.24.0023
B19: ='Pref-Fiscal'!B36&" - "&'Pref-Fiscal'!C36 -> Estado de Santa Catarina - ICMS | C19: ='Pref-Fiscal'!R36 -> 21634.85 | E19: ='Pref-Fiscal'!S36&" - "&'Pref-Fiscal'!T36 -> EV. 909 - 0000542-62.1989.8.24.0033
B20: ='Pref-Fiscal'!B37&" - "&'Pref-Fiscal'!C37 -> Estado de Santa Catarina - ICMS | C20: ='Pref-Fiscal'!R37 -> 1207.52 | E20: ='Pref-Fiscal'!S37&" - "&'Pref-Fiscal'!T37 -> EV. 909 - 0005200-70.1996.8.24.0038
B21: ='Pref-Fiscal'!B38&" - "&'Pref-Fiscal'!C38 -> Estado de Santa Catarina - ICMS | C21: ='Pref-Fiscal'!R38 -> 3220.28 | E21: ='Pref-Fiscal'!S38&" - "&'Pref-Fiscal'!T38 -> EV. 909 - 0005200-70.1996.8.24.0038
B22: ='Pref-Fiscal'!B39&" - "&'Pref-Fiscal'!C39 -> Estado de Santa Catarina - ICMS | C22: ='Pref-Fiscal'!R39 -> 12749.27 | E22: ='Pref-Fiscal'!S39&" - "&'Pref-Fiscal'!T39 -> EV. 909 - 0005200-70.1996.8.24.0038
B23: ='Pref-Fiscal'!B40&" - "&'Pref-Fiscal'!C40 -> Estado de Santa Catarina - ICMS | C23: ='Pref-Fiscal'!R40 -> 234.86 | E23: ='Pref-Fiscal'!S40&" - "&'Pref-Fiscal'!T40 -> EV. 909 - 0005200-70.1996.8.24.0038
B24: ='Pref-Fiscal'!B41&" - "&'Pref-Fiscal'!C41 -> Estado de Santa Catarina - ICMS | C24: ='Pref-Fiscal'!R41 -> 598.56 | E24: ='Pref-Fiscal'!S41&" - "&'Pref-Fiscal'!T41 -> EV. 909 - 0005200-70.1996.8.24.0038
B25: ='Pref-Fiscal'!B42&" - "&'Pref-Fiscal'!C42 -> Estado de Santa Catarina - ICMS | C25: ='Pref-Fiscal'!R42 -> 510.37 | E25: ='Pref-Fiscal'!S42&" - "&'Pref-Fiscal'!T42 -> EV. 909 - 0005200-70.1996.8.24.0038
B26: ='Pref-Fiscal'!B43&" - "&'Pref-Fiscal'!C43 -> Estado de Santa Catarina - ICMS | C26: ='Pref-Fiscal'!R43 -> 1028.04 | E26: ='Pref-Fiscal'!S43&" - "&'Pref-Fiscal'!T43 -> EV. 909 - 0005200-70.1996.8.24.0038
B27: ='Pref-Fiscal'!B44&" - "&'Pref-Fiscal'!C44 -> Estado de Santa Catarina - ICMS | C27: ='Pref-Fiscal'!R44 -> 1254.45 | E27: ='Pref-Fiscal'!S44&" - "&'Pref-Fiscal'!T44 -> EV. 909 - 0005200-70.1996.8.24.0038
B28: ='Pref-Fiscal'!B45&" - "&'Pref-Fiscal'!C45 -> Estado de Santa Catarina - ICMS | C28: ='Pref-Fiscal'!R45 -> 363.84 | E28: ='Pref-Fiscal'!S45&" - "&'Pref-Fiscal'!T45 -> EV. 909 - 0005200-70.1996.8.24.0038
B29: ='Pref-Fiscal'!B46&" - "&'Pref-Fiscal'!C46 -> Estado de Santa Catarina - ICMS | C29: ='Pref-Fiscal'!R46 -> 1761.11 | E29: ='Pref-Fiscal'!S46&" - "&'Pref-Fiscal'!T46 -> EV. 909 - 0005200-70.1996.8.24.0038
B30: ='Pref-Fiscal'!B47&" - "&'Pref-Fiscal'!C47 -> Estado de Santa Catarina - ICMS | C30: ='Pref-Fiscal'!R47 -> 3223.94 | E30: ='Pref-Fiscal'!S47&" - "&'Pref-Fiscal'!T47 -> EV. 909 - 0005200-70.1996.8.24.0038
... B71: ='Pref-Fiscal'!B88&" - "&'Pref-Fiscal'!C88 -> Estado de Santa Catarina - ICMS | C71: ='Pref-Fiscal'!R88 -> 2186.29 | E71: ='Pref-Fiscal'!S88&" - "&'Pref-Fiscal'!T88 -> EV. 909 - 0003291-90.1996.8.24.0038
B72: ='Pref-Fiscal'!B90&" - "&'Pref-Fiscal'!C90 -> Estado de Santa Catarina - FUNJURE | C72: ='Pref-Fiscal'!R90 -> 800.6715 | D72: =SUM(C72:C125) -> 15747.636 | E72: ='Pref-Fiscal'!S90&" - "&'Pref-Fiscal'!T90 -> - 0030402-31.1995.8.24.0023
B73: ='Pref-Fiscal'!B92&" - "&'Pref-Fiscal'!C92 -> Estado de Santa Catarina - FUNJURE | C73: ='Pref-Fiscal'!R92 -> 1081.7425 | E73: ='Pref-Fiscal'!S92&" - "&'Pref-Fiscal'!T92 -> - 0000542-62.1989.8.24.0033
B74: ='Pref-Fiscal'!B93&" - "&'Pref-Fiscal'!C93 -> Estado de Santa Catarina - FUNJURE | C74: ='Pref-Fiscal'!R93 -> 60.376 | E74: ='Pref-Fiscal'!S93&" - "&'Pref-Fiscal'!T93 -> - 0005200-70.1996.8.24.0038
B75: ='Pref-Fiscal'!B94&" - "&'Pref-Fiscal'!C94 -> Estado de Santa Catarina - FUNJURE | C75: ='Pref-Fiscal'!R94 -> 161.014 | E75: ='Pref-Fiscal'!S94&" - "&'Pref-Fiscal'!T94 -> - 0005200-70.1996.8.24.0038
B76: ='Pref-Fiscal'!B95&" - "&'Pref-Fiscal'!C95 -> Estado de Santa Catarina - FUNJURE | C76: ='Pref-Fiscal'!R95 -> 637.4635 | E76: ='Pref-Fiscal'!S95&" - "&'Pref-Fiscal'!T95 -> - 0005200-70.1996.8.24.0038
B77: ='Pref-Fiscal'!B96&" - "&'Pref-Fiscal'!C96 -> Estado de Santa Catarina - FUNJURE | C77: ='Pref-Fiscal'!R96 -> 11.743 | E77: ='Pref-Fiscal'!S96&" - "&'Pref-Fiscal'!T96 -> - 0005200-70.1996.8.24.0038
B78: ='Pref-Fiscal'!B97&" - "&'Pref-Fiscal'!C97 -> Estado de Santa Catarina - FUNJURE | C78: ='Pref-Fiscal'!R97 -> 29.928 | E78: ='Pref-Fiscal'!S97&" - "&'Pref-Fiscal'!T97 -> - 0005200-70.1996.8.24.0038
B79: ='Pref-Fiscal'!B98&" - "&'Pref-Fiscal'!C98 -> Estado de Santa Catarina - FUNJURE | C79: ='Pref-Fiscal'!R98 -> 25.5185 | E79: ='Pref-Fiscal'!S98&" - "&'Pref-Fiscal'!T98 -> - 0005200-70.1996.8.24.0038
B80: ='Pref-Fiscal'!B99&" - "&'Pref-Fiscal'!C99 -> Estado de Santa Catarina - FUNJURE | C80: ='Pref-Fiscal'!R99 -> 51.402 | E80: ='Pref-Fiscal'!S99&" - "&'Pref-Fiscal'!T99 -> - 0005200-70.1996.8.24.0038
B81: ='Pref-Fiscal'!B100&" - "&'Pref-Fiscal'!C100 -> Estado de Santa Catarina - FUNJURE | C81: ='Pref-Fiscal'!R100 -> 62.7225 | E81: ='Pref-Fiscal'!S100&" - "&'Pref-Fiscal'!T100 -> - 0005200-70.1996.8.24.0038
B82: ='Pref-Fiscal'!B101&" - "&'Pref-Fiscal'!C101 -> Estado de Santa Catarina - FUNJURE | C82: ='Pref-Fiscal'!R101 -> 18.192 | E82: ='Pref-Fiscal'!S101&" - "&'Pref-Fiscal'!T101 -> - 0005200-70.1996.8.24.0038
B83: ='Pref-Fiscal'!B102&" - "&'Pref-Fiscal'!C102 -> Estado de Santa Catarina - FUNJURE | C83: ='Pref-Fiscal'!R102 -> 88.0555 | E83: ='Pref-Fiscal'!S102&" - "&'Pref-Fiscal'!T102 -> - 0005200-70.1996.8.24.0038
...

Sheet PMJ
B2: Evento 997
B3: Execução | C3: CDA | D3: Ref | F3: Original | I3: INPC acumulado - 07/2026 | J3: Atualizado
E4: Vencimento | F4: Tributo | G4: Honorários | H4: Total | J4: Tributo | K4: Honorários | L4: Total
B5: 0903959-98.2017.8.24.0038 | C5: 4866/2017 | D5: IPTU 2015 | E5: 42011 | F5: 7750.74 | G5: 775.1 | H5: =SUM(F5:G5) -> 8525.84 | I5: =INPC!E303 -> 0.86616949 | J5: =ROUND(F5*(1+I5),2) -> 14464.19 | K5: =ROUND(J5*10%,2) -> 1446.42 | L5: =SUM(J5:K5) -> 15910.61
B6: 0902886-57.2018.8.24.0038 | C6: 9180/2018 | D6: IPTU 2016 | E6: 60638 | F6: 8515.29 | G6: 851.5 | H6: =SUM(F6:G6) -> 9366.79 | I6: =INPC!E315 -> 0.67706128 | J6: =ROUND(F6*(1+I6),2) -> 14280.66 | K6: =ROUND(J6*10%,2) -> 1428.07 | L6: =SUM(J6:K6) -> 15708.73
B7: 5019527-26.2019.8.24.0038 | C7: 18965/2019 | D7: IPTU 2017 | E7: 42740 | F7: 9189.37 | G7: 918.9 | H7: =SUM(F7:G7) -> 10108.27 | I7: =INPC!E327 -> 0.57352397 | J7: =ROUND(F7*(1+I7),2) -> 14459.69 | K7: =ROUND(J7*10%,2) -> 1445.97 | L7: =SUM(J7:K7) -> 15905.66
B8: 5088935-47.2022.8.24.0023 | C8: 42608/2022 | D8: IPTU 2018 | E8: 43105 | F8: 9418.93 | G8: 941.89 | H8: =SUM(F8:G8) -> 10360.82 | I8: =INPC!E339 -> 0.54165895 | J8: =ROUND(F8*(1+I8),2) -> 14520.78 | K8: =ROUND(J8*10%,2) -> 1452.08 | L8: =SUM(J8:K8) -> 15972.86
B9: 5014350-53.2024.8.24.0023 | C9: 1404 e 1405/2024 | D9: IPTU 2019 | E9: 43472 | F9: =992.89*9+992.82 -> 9928.83 | G9: =99.29*10-0.01 -> 992.89 | H9: =SUM(F9:G9) -> 10921.72 | I9: =INPC!E351 -> 0.49047667 | J9: =ROUND(F9*(1+I9),2) -> 14798.69 | K9: =ROUND(J9*10%,2) -> 1479.87 | L9: =SUM(J9:K9) -> 16278.56
D10: IPTU 2020 | E10: 43837 | F10: =1027.37*10+0.01 -> 10273.71 | G10: =102.74*10 -> 1027.4 | H10: =SUM(F10:G10) -> 11301.11 | I10: =INPC!E363 -> 0.4265448 | J10: =ROUND(F10*(1+I10),2) -> 14655.91 | K10: =ROUND(J10*10%,2) -> 1465.59 | L10: =SUM(J10:K10) -> 16121.5
B11: TOTAL | F11: =SUM(F5:F10) -> 55076.87 | G11: =SUM(G5:G10) -> 5507.68 | H11: =SUM(H5:H10) -> 60584.55 | J11: =SUM(J5:J10) -> 87179.92 | K11: =SUM(K5:K10) -> 8718 | L11: =SUM(L5:L10) -> 95897.92

Sheet INPC
A1: Moeda | B1: Fator moeda | C1: Mês | D1: % Mês | E1: Acumulado até 07/2026
A2: NCz$ | B2: 1 | C2: 39783 | D2: 0.5128 | E2: =(1+E3)*(1+D2)-1 -> 3686340.2
A3: NCz$ | B3: 1 | C3: 32874 | D3: 0.6819 | E3: =(1+E4)*(1+D3)-1 -> 2436766
A4: NCz$ | B4: 1 | C4: 32905 | D4: 0.7399 | E4: =(1+E5)*(1+D4)-1 -> 1448817
A5: Cr$ | B5: /1000 | C5: 32933 | D5: 0.8218 | E5: =(1+E6)*(1+D5)-1 -> 832700.89
A6: Cr$ | B6: /1000 | C6: 32964 | D6: 0.1467 | E6: =(1+E7)*(1+D6)-1 -> 457075.46
A7: Cr$ | B7: /1000 | C7: 32994 | D7: 0.0731 | E7: =(1+E8)*(1+D7)-1 -> 398600.6
A8: Cr$ | B8: /1000 | C8: 33025 | D8: 0.1164 | E8: =(1+E9)*(1+D8)-1 -> 371447.7
A9: Cr$ | B9: /1000 | C9: 33055 | D9: 0.1262 | E9: =(1+E10)*(1+D9)-1 -> 332719.09
A10: Cr$ | B10: /1000 | C10: 33086 | D10: 0.1218 | E10: =(1+E11)*(1+D10)-1 -> 295435.06
A11: Cr$ | B11: /1000 | C11: 33117 | D11: 0.1426 | E11: =(1+E12)*(1+D11)-1 -> 263357.94
A12: Cr$ | B12: /1000 | C12: 33147 | D12: 0.1443 | E12: =(1+E13)*(1+D12)-1 -> 230489.93
A13: Cr$ | B13: /1000 | C13: 33178 | D13: 0.1692 | E13: =(1+E14)*(1+D13)-1 -> 201424.26
A14: Cr$ | B14: /1000 | C14: 33208 | D14: 0.1914 | E14: =(1+E15)*(1+D14)-1 -> 172275.14
A15: Cr$ | B15: /1000 | C15: 33239 | D15: 0.2095 | E15: =(1+E16)*(1+D15)-1 -> 144598.75
A16: Cr$ | B16: /1000 | C16: 33270 | D16: 0.202 | E16: =(1+E17)*(1+D16)-1 -> 119552.33
... A56: CR$ | B56: /2750 | C56: 34486 | D56: 0.4824 | E56: =(1+E57)*(1+D56)-1 -> 12.41475
A57: R$ | C57: 34516 | D57: 0.0775 | E57: =(1+E58)*(1+D57)-1 -> 8.0493453
A58: R$ | C58: 34547 | D58: 0.0185 | E58: =(1+E59)*(1+D58)-1 -> 7.3984643
A59: R$ | C59: 34578 | D59: 0.014 | E59: =(1+E60)*(1+D59)-1 -> 7.2459149
A60: R$ | C60: 34608 | D60: 0.0282 | E60: =(1+E61)*(1+D60)-1 -> 7.132066
A61: R$ | C61: 34639 | D61: 0.0296 | E61: =(1+E62)*(1+D61)-1 -> 6.9090313
A62: R$ | C62: 34669 | D62: 0.017 | E62: =(1+E63)*(1+D62)-1 -> 6.6816543
A63: R$ | C63: 34700 | D63: 0.0144 | E63: =(1+E64)*(1+D63)-1 -> 6.5532491
A64: R$ | C64: 34731 | D64: 0.0101 | E64: =(1+E65)*(1+D64)-1 -> 6.4460263
A65: R$ | C65: 34759 | D65: 0.0162 | E65: =(1+E66)*(1+D65)-1 -> 6.3715734
A66: R$ | C66: 34790 | D66: 0.0249 | E66: =(1+E67)*(1+D66)-1 -> 6.2540577
A67: R$ | C67: 34820 | D67: 0.021 | E67: =(1+E68)*(1+D67)-1 -> 6.07782
A68: R$ | C68: 34851 | D68: 0.0218 | E68: =(1+E69)*(1+D68)-1 -> 5.9322429
... A378: R$ | C378: 44287 | D378: 0.0038 | E378: =(1+E379)*(1+D378)-1 -> 0.32682356
C379: 44317 | D379: 0.0096 | E379: =(1+E380)*(1+D379)-1 -> 0.32180071
C380: 44348 | D380: 0.006 | E380: =(1+E381)*(1+D380)-1 -> 0.30923209
C381: 44378 | D381: 0.0102 | E381: =(1+E382)*(1+D381)-1 -> 0.30142355
C382: 44409 | D382: 0.0088 | E382: =(1+E383)*(1+D382)-1 -> 0.28828306
C383: 44440 | D383: 0.012 | E383: =(1+E384)*(1+D383)-1 -> 0.27704506
C384: 44470 | D384: 0.0116 | E384: =(1+E385)*(1+D384)-1 -> 0.26190223
C385: 44501 | D385: 0.0084 | E385: =(1+E386)*(1+D385)-1 -> 0.24743202
C386: 44531 | D386: 0.0073 | E386: =(1+E387)*(1+D386)-1 -> 0.23704088
C387: 44562 | D387: 0.0067 | E387: =(1+E388)*(1+D387)-1 -> 0.22807593
C388: 44593 | D388: 0.01 | E388: =(1+E389)*(1+D388)-1 -> 0.21990258
...

Sheet Pref-Trabalhistas
B2: Quadro 2- CREDORES PREFERENCIAIS TRABALHISTAS
B3: CREDOR | C3: CNPJ | D3: Vlr. Original | E3: Vlr. Atualizado até: | F3: OBSERVAÇÃO
E4: 46234
B5: Municipio de Joinville | D5: =PMJ!G5 -> 775.1 | E5: =PMJ!K5 -> 1446.42 | F5: EV. 997 - Execução Fiscal n. 0903959-98.2017.8.24.0038
B6: Municipio de Joinville | D6: =PMJ!G6 -> 851.5 | E6: =PMJ!K6 -> 1428.07 | F6: EV. 997 - Execução Fiscal n. 0902886-57.2018.8.24.0038
B7: Municipio de Joinville | D7: =PMJ!G7 -> 918.9 | E7: =PMJ!K7 -> 1445.97 | F7: EV. 997 - Execução Fiscal n. 5019527-26.2019.8.24.0038
B8: Municipio de Joinville | D8: =PMJ!G8 -> 941.89 | E8: =PMJ!K8 -> 1452.08 | F8: EV. 997 - Execução Fiscal n. 5088935-47.2022.8.24.0023
B9: Municipio de Joinville | D9: =PMJ!G9+PMJ!G10 -> 2020.29 | E9: =PMJ!K9+PMJ!K10 -> 2945.46 | F9: EV. 997 - Execução Fiscal n. 5014350-53.2024.8.24.0023
B11: TOTAL | D11: =SUM(D5:D10) -> 5507.68 | E11: =SUM(E5:E10) -> 8718

Sheet Pref-Fiscal
B2: Quadro 3- CREDITOS PREFERENCIAIS FISCAIS
B3: CREDOR | C3: TIPO | D3: INSCRIÇÃO | E3: REVISÃO AJ | H3: REVISÃO AJ 27/02/19 | K3: REVISÃO AJ 10/08/20 | N3: REVISÃO AJ 30/04/2025 | P3: REVISÃO AJ 30/04/2025 | R3: REVISÃO AJ 31/05/2026 | T3: OBSERVAÇÃO
E4: VALOR | F4: DATA DA ATUALIZAÇÃO | G4: DATA DA ATUALIZAÇÃO | H4: VALOR | I4: DATA DA ATUALIZAÇÃO | J4: REFERÊNCIA | K4: VALOR | L4: DATA DA ATUALIZAÇÃO | M4: REFERÊNCIA | N4: VALOR | O4: REFERÊNCIA | P4: VALOR | Q4: REFERÊNCIA | R4: VALOR | S4: REFERÊNCIA
B5: União | C5: Dívida Ativa | D5: 91 2 94 000529-90 | E5: 3838.95 | F5: 42135 | G5: 42135 | H5: 3838.95 | I5: 42135 | J5: Fls. 280-286 | K5: 3838.95 | L5: 42135 | M5: Fls. 280-286 | N5: 0 | P5: 0 | Q5: EV.910 | R5: 0 | T5: excluído
B6: União | C6: Dívida Ativa | D6: 91 5 94 000603-67 | E6: 3033.36 | F6: 42135 | G6: 42135 | H6: 3033.36 | I6: 42135 | J6: Fls. 280-286 | K6: 3033.36 | L6: 42135 | M6: Fls. 280-286 | N6: 3033.36 | O6: Ev. 353 | P6: 0 | Q6: EV.910 | R6: 0 | T6: 91 5 94 000603-67
B7: União | C7: Dívida Ativa | D7: 91 5 94 000987-63 | E7: 3033.36 | F7: 42135 | G7: 42135 | H7: 3033.36 | I7: 42135 | J7: Fls. 280-286 | K7: 3033.36 | L7: 42135 | M7: Fls. 280-286 | N7: 3033.36 | O7: Ev. 353 | P7: 0 | Q7: EV.910 | R7: 0 | T7: 91 5 94 000987-63
B8: União | C8: Dívida Ativa | D8: 91 6 93 000561-28 | E8: 908.7 | F8: 42135 | G8: 42135 | H8: 908.7 | I8: 42135 | J8: Fls. 280-286 | K8: 908.7 | L8: 42135 | M8: Fls. 280-286 | N8: 908.7 | O8: Ev. 353 | P8: 0 | Q8: EV.910 | R8: 0 | T8: 91 6 93 000561-28
B9: União | C9: Dívida Ativa | D9: 91 6 94 000662-06 | E9: 16838.64 | F9: 42135 | G9: 42135 | H9: 16838.64 | I9: 42135 | J9: Fls. 280-286 | K9: 16838.64 | L9: 42135 | M9: Fls. 280-286 | N9: 16838.64 | O9: Ev. 353 | P9: 0 | Q9: EV.910 | R9: 0 | T9: 91 6 94 000662-06
B10: União | C10: Dívida Ativa | D10: 91 6 97 030356-84 | E10: 510.14 | F10: 42135 | G10: 42135 | H10: 510.14 | I10: 42135 | J10: Fls. 280-286 | K10: 510.14 | L10: 42135 | M10: Fls. 280-286 | N10: 510.14 | O10: Ev. 353 | P10: 0 | Q10: EV.910 | R10: 0 | T10: 91 6 97 030356-84
B11: União | C11: Dívida Ativa | D11: 91 6 97 030362-22 | E11: 3577.14 | F11: 42135 | G11: 42135 | H11: 0 | K11: 0 | N11: 3355.15 | O11: Ev. 353 | P11: 0 | Q11: EV.910 | R11: 0 | T11: 91 6 97 030409-20
B12: União | C12: Dívida Ativa | D12: 91 6 97 030378-90 | E12: 3602.34 | F12: 42135 | G12: 42135 | H12: 0 | K12: 0 | N12: 18484.2 | O12: Ev. 353 | P12: 0 | Q12: EV.910 | R12: 0 | T12: 91 6 94 000269-02
B13: União | C13: Dívida Ativa | D13: 91 6 97 030399-14 | E13: 3602.34 | F13: 42135 | G13: 42135 | H13: 0 | K13: 0 | N13: 6903.6 | O13: Ev. 353 | P13: 0 | Q13: EV.910 | R13: 0 | T13: 316617202
B14: União | C14: Dívida Ativa | D14: 91 6 97 030400-92 | E14: 3606.98 | F14: 42135 | G14: 42135 | H14: 0 | K14: 0 | N14: 2231.62 | O14: Ev. 353 | P14: 0 | Q14: EV.910 | R14: 0 | T14: 316617210
B15: União | C15: Dívida Ativa | D15: 91 6 97 030401-73 | E15: 2698.27 | F15: 42135 | G15: 42135 | H15: 0 | K15: 0 | N15: 103.18 | O15: Ev. 529 | P15: 0 | Q15: EV.910 | R15: 0 | T15: 316617300
B16: União | C16: Dívida Ativa | D16: 91 6 97 030402-54 | E16: 1299.8 | F16: 42135 | G16: 42135 | H16: 0 | K16: 0 | N16: 123.36 | O16: Ev. 529 | P16: 0 | Q16: EV.910 | R16: 0 | T16: 316617288
B17: União | C17: Dívida Ativa | D17: 91 6 97 030403-35 | E17: 8982.68 | F17: 42135 | G17: 42135 | H17: 0 | K17: 0 | N17: 93.83 | O17: Ev. 868 | P17: 0 | Q17: EV.910 | R17: 93.83 | S17: Ev. 868 | T17: 316617350
B18: União | C18: Dívida Ativa | D18: 91 6 97 030404-16 | E18: 4854.78 | F18: 42135 | G18: 42135 | H18: 0 | K18: 0 | N18: 134.77 | O18: Ev. 868 | P18: 0 | Q18: EV.910 | R18: 134.77 | S18: Ev. 868 | T18: 316617342
B19: União | C19: Dívida Ativa | D19: 91 6 97 030405-05 | E19: 7007.37 | F19: 42135 | G19: 42135 | H19: 0 | K19: 0 | N19: 366.88 | O19: Ev. 868 | P19: 0 | Q19: EV.910 | R19: 366.88 | S19: Ev. 868 | T19: 316617334
B20: União | C20: Dívida Ativa | D20: 91 6 97 030406-88 | E20: 4123.29 | F20: 42135 | G20: 42135 | H20: 0 | K20: 0 | N20: 464.43 | O20: Ev. 868 | P20: 0 | Q20: EV.910 | R20: 464.43 | S20: Ev. 868 | T20: 316617199
B21: União | C21: Dívida Ativa | D21: 91 6 97 030407-69 | E21: 1798.81 | F21: 42135 | G21: 42135 | H21: 0 | K21: 0 | N21: 821.25 | O21: Ev. 529 | P21: 0 | Q21: EV.910 | R21: 0 | T21: 316617270
B22: União | C22: Dívida Ativa | D22: 91 6 97 030408-40 | E22: 6279.72 | F22: 42135 | G22: 42135 | H22: 0 | K22: 0 | N22: 1342.92 | O22: Ev. 529 | P22: 0 | Q22: EV.910 | R22: 0 | T22: 316617253
B23: União | C23: Dívida Ativa | D23: 91 6 97 030409-20 | E23: 3355.15 | F23: 42135 | G23: 42135 | H23: 3355.15 | J23: Fls. 280-286 | K23: 3355.15 | M23: Fls. 280-286 | N23: 2304.42 | O23: Ev. 529 | P23: 0 | Q23: EV.910 | R23: 0 | T23: 316617180
B24: União | C24: Dívida Ativa | D24: 91 6 97 030410-64 | E24: 3597.66 | F24: 42135 | G24: 42135 | H24: 0 | K24: 0 | N24: 2340.03 | O24: Ev. 529 | P24: 0 | Q24: EV.910 | R24: 0 | T24: 316617261
B25: União | C25: Dívida Ativa | D25: 91 6 97 030411-45 | E25: 14728.18 | F25: 42135 | G25: 42135 | H25: 0 | K25: 0 | N25: 2603.02 | O25: Ev. 529 | P25: 0 | Q25: EV.910 | R25: 0 | T25: 316617237
B26: União | C26: Dívida Ativa | D26: 91 6 97 030412-26 | E26: 1299.8 | F26: 42135 | G26: 42135 | H26: 0 | K26: 0 | N26: 3933.02 | O26: Ev. 529 | P26: 0 | Q26: EV.910 | R26: 0 | T26: 316617245
B27: União | C27: Dívida Ativa | D27: 91 6 97 030413-07 | E27: 908.7 | F27: 42135 | G27: 42135 | H27: 0 | K27: 0 | N27: 7639.32 | O27: Ev. 529 | P27: 0 | Q27: EV.910 | R27: 0 | T27: 316617229
B28: União | C28: Dívida Ativa | D28: 91 6 97 030414-98 | E28: 2722.65 | F28: 42135 | G28: 42135 | H28: 0 | K28: 0 | R28: 0
B29: União | C29: Dívida Ativa | D29: 91 6 97 030415-79 | E29: 3607.77 | F29: 42135 | G29: 42135 | H29: 0 | K29: 0 | R29: 0
B30: União | C30: Dívida Ativa | D30: 91 6 94 000269-02 | E30: 18484.2 | F30: 42135 | G30: 42135 | H30: 18484.2 | J30: Fls. 280-286 | K30: 18484.2 | M30: Fls. 280-286 | R30: 0
B31: União | C31: Dívida Ativa | D31: 316617202 | H31: 6903.6 | I31: 42135 | J31: Fls. 287 | K31: 6903.6 | L31: 42135 | M31: Fls. 287 | R31: 0
B32: União | C32: Dívida Ativa | D32: 316617210 | H32: 2231.62 | I32: 42135 | J32: Fls. 287 | K32: 2231.62 | L32: 42135 | M32: Fls. 287 | R32: 0
B33: Estado de Santa Catarina | C33: ICMS | D33: 1101000387 | E33: 61.22 | F33: 42139 | G33: 42139 | H33: 61.22 | I33: 42139 | J33: Fls. 294 | K33: 61.22 | L33: 43364 | M33: Ev. 480 | N33: 0 | O33: EV. 870 -ALTERADO PARA CLASSE DE MULTA | P33: 0 | Q33: EV. 870 -ALTERADO PARA CLASSE DE MULTA | R33: 0 | T33: 0051131-78.1995.8.24.0023 | X33: 1101000387 | Y33: 0 | Z33: =D33=X33 -> TRUE
B34: Estado de Santa Catarina | C34: ICMS | D34: 1101001288 | E34: 80802.99 | F34: 42139 | G34: 42139 | H34: 80802.99 | I34: 42139 | J34: Fls. 299 | K34: 16013.43 | L34: 43364 | M34: Ev. 480 | N34: 16013.43 | O34: EV. 870 | R34: 16013.43 | S34: EV. 909 | T34: 0030402-31.1995.8.24.0023 | X34: 1101001288 | Y34: 16013.43 | Z34: =D34=X34 -> TRUE
B35: Estado de Santa Catarina | C35: ICMS | D35: 1101005491 | E35: 282.94 | F35: 42139 | G35: 42139 | H35: 282.94 | I35: 42139 | J35: Fls. 299 | K35: 282.94 | L35: 43364 | M35: Ev. 480 | N35: 0 | O35: EV. 870 | R35: 0 | S35: EV. 909 | T35: 0005200-70.1996.8.24.0038 | X35: 1101005491 | Y35: 0 | Z35: =D35=X35 -> TRUE
B36: Estado de Santa Catarina | C36: ICMS | D36: 2101317567 | E36: 76224.29 | F36: 42139 | G36: 42139 | H36: 76224.29 | I36: 42139 | J36: Fls. 296 | K36: 21634.85 | L36: 43364 | M36: Ev. 480 | N36: 21634.85 | O36: EV. 870 | R36: 21634.85 | S36: EV. 909 | T36: 0000542-62.1989.8.24.0033 | X36: 2101317567 | Y36: 21634.85 | Z36: =D36=X36 -> TRUE
B37: Estado de Santa Catarina | C37: ICMS | D37: 5101002787 | H37: 1207.52 | I37: 43418 | J37: Fls. 480 | K37: 1207.52 | L37: 43364 | M37: Ev. 480 | N37: 1207.52 | O37: EV. 870 | R37: 1207.52 | S37: EV. 909 | T37: 0005200-70.1996.8.24.0038 | X37: 5101002787 | Y37: 1207.52 | Z37: =D37=X37 -> TRUE
B38: Estado de Santa Catarina | C38: ICMS | D38: 5101002887 | H38: 3220.28 | I38: 43418 | J38: Fls. 480 | K38: 3220.28 | L38: 43364 | M38: Ev. 480 | N38: 3220.28 | O38: EV. 870 | R38: 3220.28 | S38: EV. 909 | T38: 0005200-70.1996.8.24.0038 | X38: 5101002887 | Y38: 3220.28 | Z38: =D38=X38 -> TRUE
B39: Estado de Santa Catarina | C39: ICMS | D39: 5101002987 | E39: 44417.33 | F39: 42139 | G39: 42139 | H39: 44417.33 | I39: 42139 | J39: Fls. 297 | K39: 12749.27 | L39: 43364 | M39: Ev. 480 | N39: 12749.27 | O39: EV. 870 | R39: 12749.27 | S39: EV. 909 | T39: 0005200-70.1996.8.24.0038 | X39: 5101002987 | Y39: 12749.27 | Z39: =D39=X39 -> TRUE
B40: Estado de Santa Catarina | C40: ICMS | D40: 5101003187 | E40: 814.52 | F40: 42139 | G40: 42139 | H40: 814.52 | I40: 42139 | J40: Fls. 297 | K40: 234.86 | L40: 43364 | M40: Ev. 480 | N40: 234.86 | O40: EV. 870 | R40: 234.86 | S40: EV. 909 | T40: 0005200-70.1996.8.24.0038 | X40: 5101003187 | Y40: 234.86 | Z40: =D40=X40 -> TRUE
B41: Estado de Santa Catarina | C41: ICMS | D41: 5101003287 | H41: 598.57 | I41: 43418 | J41: Fls. 480 | K41: 598.56 | L41: 43364 | M41: Ev. 480 | N41: 598.56 | O41: EV. 870 | R41: 598.56 | S41: EV. 909 | T41: 0005200-70.1996.8.24.0038 | X41: 5101003287 | Y41: 598.56 | Z41: =D41=X41 -> TRUE
...

Sheet Pref-EncargoMassa
B2: Quadro 2 -CREDORES EXTRACONCURSAIS
B3: CREDOR | C3: TIPO | D3: ANO DO DÉBITO | E3: REVISÃO AJ | H3: REVISÃO AJ 05/03/2019 | I3: REVISÃO AJ | L3: REVISÃO AJ 30/04/2025
E4: VALOR | F4: DATA DA ATUALIZAÇÃO | G4: REFERÊNCIA | H4: VALOR | I4: VALOR | J4: DATA DA ATUALIZAÇÃO | K4: REFERÊNCIA | L4: VALOR | M4: VALOR ATUALIZADO ATÉ | N4: REFERÊNCIA | O4: OBS | R4: VALOR | S4: REFERÊNCIA | T4: OBS
B5: Remuneração Administração Judicial
B6: Municipio de Joinville | C6: IPTU - Ajuizada - IM 13.20.15.81.2454.0000 | D6: 1999 | E6: 16086.64 | F6: 42122 | G6: FLS. 2129 A 2159 | H6: =622.31+674.32 -> 1296.63 | J6: 36201 | K6: Fls. 509 | L6: =H6 -> 1296.63 | O6: Valor estimado pois a PMJ não informou débitos do imovel | P6: ="R$ "&H6 -> R$ 1296,63 | Q6: =B6&"-"&C6&""&D6&"-"&P6&";" -> Municipio de Joinville-IPTU - Ajuizada - IM 13.20.15.81.2454.00001999-R$ 1296,63;
B7: Municipio de Joinville | C7: IPTU - Ajuizada - IM 13.20.15.81.2454.0000 | D7: 2000 | E7: 15262.96 | F7: 42122 | G7: FLS. 2129 A 2160 | H7: =622.31+674.32 -> 1296.63 | J7: 36566 | K7: Fls. 509 | L7: =H7 -> 1296.63 | O7: Valor estimado pois a PMJ não informou débitos do imovel | P7: ="R$ "&H7 -> R$ 1296,63 | Q7: =B7&"-"&C7&""&D7&"-"&P7&";" -> Municipio de Joinville-IPTU - Ajuizada - IM 13.20.15.81.2454.00002000-R$ 1296,63;
B8: Municipio de Joinville | C8: IPTU - Ajuizada - IM 13.20.15.81.2454.0000 | D8: 2001 | E8: 16005.05 | F8: 42122 | G8: FLS. 2129 A 2161 | H8: =692.31+744.85 -> 1437.16 | J8: 36934 | K8: Fls. 509 | L8: =H8 -> 1437.16 | O8: Valor estimado pois a PMJ não informou débitos do imovel | P8: ="R$ "&H8 -> R$ 1437,16 | Q8: =B8&"-"&C8&""&D8&"-"&P8&";" -> Municipio de Joinville-IPTU - Ajuizada - IM 13.20.15.81.2454.00002001-R$ 1437,16;
B9: Municipio de Joinville | C9: IPTU - Ajuizada - IM 13.20.15.81.2454.0000 | D9: 2002 | E9: 15390.61 | F9: 42122 | G9: FLS. 2129 A 2162 | H9: =767.27+698.24 -> 1465.51 | J9: 37295 | K9: Fls. 509 | L9: =H9 -> 1465.51 | O9: Valor estimado pois a PMJ não informou débitos do imovel | P9: ="R$ "&H9 -> R$ 1465,51 | Q9: =B9&"-"&C9&""&D9&"-"&P9&";" -> Municipio de Joinville-IPTU - Ajuizada - IM 13.20.15.81.2454.00002002-R$ 1465,51;
B10: Municipio de Joinville | C10: IPTU - Ajuizada - IM 13.20.15.81.2454.0000 | D10: 2003 | E10: 14473.82 | F10: 42122 | G10: FLS. 2129 A 2163 | H10: =1020.61+505.33 -> 1525.94 | J10: 37662 | K10: Fls. 509 | L10: =H10 -> 1525.94 | O10: Valor estimado pois a PMJ não informou débitos do imovel | P10: ="R$ "&H10 -> R$ 1525,94 | Q10: =B10&"-"&C10&""&D10&"-"&P10&";" -> Municipio de Joinville-IPTU - Ajuizada - IM 13.20.15.81.2454.00002003-R$ 1525,94;
B11: Municipio de Joinville | C11: IPTU - Dívida Ativa - IM 13.20.15.81.2454.0000 | D11: 2004 | E11: 13943.15 | F11: 42122 | G11: FLS. 2129 A 2164 | H11: =1145.69+359.86 -> 1505.55 | J11: 38153 | K11: Fls. 510 | L11: =H11 -> 1505.55 | O11: Valor estimado pois a PMJ não informou débitos do imovel | P11: ="R$ "&H11 -> R$ 1505,55 | Q11: =B11&"-"&C11&""&D11&"-"&P11&";" -> Municipio de Joinville-IPTU - Dívida Ativa - IM 13.20.15.81.2454.00002004-R$ 1505,55;
B12: Municipio de Joinville | C12: IPTU - Ajuizada - IM 13.20.15.81.2454.0000 | D12: 2005 | E12: 13029.74 | F12: 42122 | G12: FLS. 2129 A 2165 | H12: =1286.41+291.29 -> 1577.7 | J12: 38398 | K12: Fls. 510 | L12: =H12 -> 1577.7 | O12: Valor estimado pois a PMJ não informou débitos do imovel | P12: ="R$ "&H12 -> R$ 1577,7 | Q12: =B12&"-"&C12&""&D12&"-"&P12&";" -> Municipio de Joinville-IPTU - Ajuizada - IM 13.20.15.81.2454.00002005-R$ 1577,7;
B13: Municipio de Joinville | C13: IPTU - Ajuizada - IM 13.20.15.81.2454.0000 | D13: 2006 | E13: 14469.48 | F13: 42122 | G13: FLS. 2129 A 2166 | H13: =1452.35+269.92 -> 1722.27 | J13: 38763 | K13: Fls. 510 | L13: =H13 -> 1722.27 | O13: Valor estimado pois a PMJ não informou débitos do imovel | P13: ="R$ "&H13 -> R$ 1722,27 | Q13: =B13&"-"&C13&""&D13&"-"&P13&";" -> Municipio de Joinville-IPTU - Ajuizada - IM 13.20.15.81.2454.00002006-R$ 1722,27;
B14: Municipio de Joinville | C14: IPTU - Ajuizada - IM 13.20.15.81.2454.0000 | D14: 2007 | E14: 14040.15 | F14: 42122 | G14: FLS. 2129 A 2167 | H14: =2553.25+370.17 -> 2923.42 | J14: 39128 | K14: Fls. 510 | L14: =H14 -> 2923.42 | O14: Valor estimado pois a PMJ não informou débitos do imovel | P14: ="R$ "&H14 -> R$ 2923,42 | Q14: =B14&"-"&C14&""&D14&"-"&P14&";" -> Municipio de Joinville-IPTU - Ajuizada - IM 13.20.15.81.2454.00002007-R$ 2923,42;
B15: Municipio de Joinville | C15: IPTU - Ajuizada - IM 13.20.15.81.2454.0000 | D15: 2008 | E15: 12288.94 | F15: 42122 | G15: FLS. 2129 A 2168 | H15: =2714.99+188.76 -> 2903.75 | J15: 39769 | K15: Fls. 510 | L15: =H15 -> 2903.75 | O15: Valor estimado pois a PMJ não informou débitos do imovel | P15: ="R$ "&H15 -> R$ 2903,75 | Q15: =B15&"-"&C15&""&D15&"-"&P15&";" -> Municipio de Joinville-IPTU - Ajuizada - IM 13.20.15.81.2454.00002008-R$ 2903,75;
B16: Municipio de Joinville | C16: IPTU - Ajuizada - IM 13.20.15.81.2454.0000 | D16: 2009 | E16: 11203.78 | F16: 42122 | G16: FLS. 2129 A 2169 | H16: =1789.18+29.75 -> 1818.93 | J16: 40133 | K16: Fls. 511 | L16: =H16 -> 1818.93 | O16: Valor estimado pois a PMJ não informou débitos do imovel | P16: ="R$ "&H16 -> R$ 1818,93 | Q16: =B16&"-"&C16&""&D16&"-"&P16&";" -> Municipio de Joinville-IPTU - Ajuizada - IM 13.20.15.81.2454.00002009-R$ 1818,93;
B17: Municipio de Joinville | C17: IPTU - Ajuizada - IM 13.20.15.81.2454.0000 | D17: 2010 | E17: 10135.22 | F17: 42122 | G17: FLS. 2129 A 2170 | H17: =1857.44 -> 1857.44 | J17: 40461 | K17: Fls. 511 | L17: =H17 -> 1857.44 | O17: Valor estimado pois a PMJ não informou débitos do imovel | P17: ="R$ "&H17 -> R$ 1857,44 | Q17: =B17&"-"&C17&""&D17&"-"&P17&";" -> Municipio de Joinville-IPTU - Ajuizada - IM 13.20.15.81.2454.00002010-R$ 1857,44;
B18: Municipio de Joinville | C18: IPTU - Ajuizada - IM 13.20.15.81.2454.0000 | D18: 2011 | E18: 9985.01 | F18: 42122 | G18: FLS. 2129 A 2171 | H18: 1968.9 | J18: 40827 | K18: Fls. 511 | L18: =H18 -> 1968.9 | O18: Valor estimado pois a PMJ não informou débitos do imovel | P18: ="R$ "&H18 -> R$ 1968,9 | Q18: =B18&"-"&C18&""&D18&"-"&P18&";" -> Municipio de Joinville-IPTU - Ajuizada - IM 13.20.15.81.2454.00002011-R$ 1968,9;
B19: Municipio de Joinville | C19: IPTU - Ajuizada - IM 13.20.15.81.2454.0000 | D19: 2012 | E19: 9805.33 | F19: 42122 | G19: FLS. 2129 A 2172 | H19: 6514.58 | J19: 41192 | K19: Fls. 512 | L19: =H19 -> 6514.58 | O19: Valor estimado pois a PMJ não informou débitos do imovel | P19: ="R$ "&H19 -> R$ 6514,58 | Q19: =B19&"-"&C19&""&D19&"-"&P19&";" -> Municipio de Joinville-IPTU - Ajuizada - IM 13.20.15.81.2454.00002012-R$ 6514,58;
B20: Municipio de Joinville | C20: IPTU - Ajuizada - IM 13.20.15.81.2454.0000 | D20: 2013 | E20: 8063.78 | F20: 42122 | G20: FLS. 2129 A 2173 | H20: 6869.51 | J20: 41557 | K20: Fls. 512 | L20: =H20 -> 6869.51 | O20: Valor estimado pois a PMJ não informou débitos do imovel | P20: ="R$ "&H20 -> R$ 6869,51 | Q20: =B20&"-"&C20&""&D20&"-"&P20&";" -> Municipio de Joinville-IPTU - Ajuizada - IM 13.20.15.81.2454.00002013-R$ 6869,51;
B21: Municipio de Joinville | C21: IPTU - Ajuizada - IM 13.20.15.81.2454.0000 | D21: 2014 | E21: 7872.08 | F21: 42122 | G21: FLS. 2129 A 2174 | H21: 7271.51 | J21: 41920 | K21: Fls. 512 | L21: =H21 -> 7271.51 | O21: Valor estimado pois a PMJ não informou débitos do imovel | P21: ="R$ "&H21 -> R$ 7271,51 | Q21: =B21&"-"&C21&""&D21&"-"&P21&";" -> Municipio de Joinville-IPTU - Ajuizada - IM 13.20.15.81.2454.00002014-R$ 7271,51;
B22: Municipio de Joinville | C22: COSIP - IM 13.20.42.53.5905.0000 | D22: 2015 | L22: =58.55*9+58.56 -> 585.51 | N22: Ev. 859 - ANEXO7 | P22: ="R$ "&H22 -> R$ | Q22: =B22&"-"&C22&""&D22&"-"&P22&";" -> Municipio de Joinville-COSIP - IM 13.20.42.53.5905.00002015-R$ ; | R22: 7750.74 | S22: Ev. 997 | T22: Execução Fiscal n. 0903959-98.2017.8.24.0038 - CDA 4866/2017
B23: Municipio de Joinville | C23: COSIP - IM 13.20.42.53.5905.0000 | D23: 2016 | L23: =63.85*10 -> 638.5 | N23: Ev. 859 - ANEXO6 | P23: ="R$ "&H23 -> R$ | Q23: =B23&"-"&C23&""&D23&"-"&P23&";" -> Municipio de Joinville-COSIP - IM 13.20.42.53.5905.00002016-R$ ; | R23: 9189.37 | S23: Ev. 997 | T23: Execução Fiscal n. 5019527-26.2019.8.24.0038 - CDA 18965/2019
B24: Municipio de Joinville | C24: IPTU - Dívida Ativa - IM 13.20.42.53.5905.0000 | D24: 2015 | E24: 7709.03 | F24: 42122 | G24: FLS. 2129 A 2175 | H24: 7750.74 | J24: 42285 | K24: Fls. 513 | L24: =716.52*9+716.55 -> 7165.23 | M24: =16834.92-775.1 -> 16059.82 | N24: Ev. 859 - ANEXO7 | O24: EXTRATO DE DÉBITO ATUALIZADO - ANEXO - PROCESSO DE EXECUÇÃO 0903959-98.2017.8.24.0038 | R24: 8515.29 | S24: Ev. 997 | T24: Execução Fiscal n. 0902886-57.2018.8.24.0038 - CDA 9180/2018
B25: Municipio de Joinville | C25: IPTU - Dívida Ativa - IM 13.20.42.53.5905.0000 | D25: 2016 | H25: 8515.29 | J25: 42653 | K25: Fls. 513 | L25: =787.68*9+787.67 -> 7876.79 | M25: =17266.85-851.5 -> 16415.35 | N25: Ev. 859 - ANEXO6 | O25: EXTRATO DE DÉBITO ATUALIZADO - ANEXO | R25: 20202.54 | S25: Ev. 997 | T25: Execução Fiscal n. 5014350-53.2024.8.24.0023 - CDAs 1404 e 1405/2014
B26: Municipio de Joinville | C26: IPTU - Dívida Ativa - IM 13.20.42.53.5905.0000 | D26: 2017 | H26: 9189.37 | J26: 43017 | K26: Fls. 513 | L26: =849.68*9+849.65 -> 8496.77 | M26: =17377.26-918.9 -> 16458.36 | N26: Ev. 859 - ANEXO5 | O26: EXTRATO DE DÉBITO ATUALIZADO - ANEXO - PROCESSO DE EXECUÇÃO 5019527-26.2019.8.24.0038 | R26: 9418.93 | S26: Ev. 997 | T26: Execução Fiscal n. 5088935-47.2022.8.24.0023 - CDAs 42608/2022
B27: Municipio de Joinville | C27: COSIP - IM 13.20.42.53.5905.0000 | D27: 2017 | L27: =69.26*10 -> 692.6 | N27: Ev. 859 - ANEXO5 | P27: ="R$ "&H27 -> R$ | Q27: =B27&"-"&C27&""&D27&"-"&P27&";" -> Municipio de Joinville-COSIP - IM 13.20.42.53.5905.00002017-R$ ;
B28: Municipio de Joinville | C28: IPTU - Dívida Ativa - IM 13.20.42.53.5905.0000 | D28: 2018 | H28: 9418.93 | J28: 43378 | K28: Fls. 514 | L28: =872.62*9+872.59 -> 8726.17 | M28: =17007.1-941.89 -> 16065.21 | N28: Ev. 859 - ANEXO4 | O28: EXTRATO DE DÉBITO ATUALIZADO - ANEXO | P28: ="R$ "&H28 -> R$ 9418,93 | Q28: =B28&"-"&C28&""&D28&"-"&P28&";" -> Municipio de Joinville-IPTU - Dívida Ativa - IM 13.20.42.53.5905.00002018-R$ 9418,93;
B29: Municipio de Joinville | C29: COSIP - IM 13.20.42.53.5905.0000 | D29: 2018 | L29: =69.28*9+69.24 -> 692.76 | N29: Ev. 859 - ANEXO4
B30: Municipio de Joinville | C30: IPTU - Dívida Ativa - IM 13.20.42.53.5905.0000 | D30: 2019 | I30: =9928.83 -> 9928.83 | K30: Ev. 593 | L30: =908.31*9+908.28 -> 9083.07 | M30: =17254.8-992.89 -> 16261.91 | N30: Ev. 859 - ANEXO3 | O30: EXTRATO DE DÉBITO ATUALIZADO - ANEXO
B31: Municipio de Joinville | C31: COSIP - IM 13.20.42.53.5905.0000 | D31: 2019 | L31: =84.58*9+84.54 -> 845.76 | N31: Ev. 859 - ANEXO3
B32: Municipio de Joinville | C32: IPTU - Dívida Ativa - IM 13.20.42.53.5905.0000 | D32: 2020 | I32: 10273.71 | K32: Ev. 593 | L32: =(934.56*9)+934.53 -> 9345.57 | M32: =17313.4-1027.4 -> 16286 | N32: Ev. 859 - ANEXO2 | O32: EXTRATO DE DÉBITO ATUALIZADO - ANEXO
B33: Municipio de Joinville | C33: COSIP - IM 13.20.42.53.5905.0000 | D33: 2020 | L33: =(92.81*9)+92.85 -> 928.14 | N33: Ev. 859 - ANEXO2
B34: Municipio de São José | C34: CDA 81902015 | D34: 2010 a 2013 | H34: 1202.45 | I34: 0 | K34: Execução Fiscal n° 0312898-09.2015.8.24.0064 | L34: 0 | M34: 0 | O34: PROCESSO FOI JULGADO EXTINTO - CANCELAMENTO DA DÍVIDA ATIVA 30/05/2025 | P34: ="R$ "&H34 -> R$ 1202,45 | Q34: =B34&"-"&C34&""&D34&"-"&P34&";" -> Municipio de São José-CDA 819020152010 a 2013-R$ 1202,45;
B35: Municipio de São José | C35: CDA 7002 | D35: 2010 a 2013 | H35: 1491.65 | K35: Execução Fiscal n° 0903736-38.2015.8.24.0064 | L35: 0 | M35: 0 | O35: PROCESSO FOI JULGADO EXTINTO - CANCELAMENTO DA DÍVIDA ATIVA 03/12/2021 | P35: ="R$ "&H35 -> R$ 1491,65 | Q35: =B35&"-"&C35&""&D35&"-"&P35&";" -> Municipio de São José-CDA 70022010 a 2013-R$ 1491,65;
B36: Municipio de São José | C36: Taxa de Fiscalização | D36: 1992 a 1998 | L36: 0 | M36: 0 | N36: Ev. 869 E 906 | O36: EV. 869 INFORMADA VALOR DE 11.926,53 - EV. 906 EXTINTO NÃO HÁ DÉBITOS
B38: TOTAL | E38: =SUM(E6:E35) -> 209764.77 | H38: =SUM(H6:H35) -> 81523.86 | I38: =SUM(I5:I35) -> 20202.54 | L38: =SUM(L5:L35) -> 99032.3 | M38: =SUM(M5:M37) -> 97546.65 | P38: ="R$ "&H38 -> R$ 81523,86 | Q38: 81523.86 | R38: =SUM(R5:R37) -> 55076.87

Sheet Credores Quirografarios 
B2: Quadro 4 - CREDORES QUIROGRAFÁRIOS
B3: CREDOR | C3: VALOR EM CR$ | G3: VALOR EM R$ | H3: INPC Acumulado | I3: Saldo em | J3: OBSERVAÇÃO
D4: VALOR CORRIGIDO EM R$ | E4: DATA DA CONVERSÃO | F4: REFERÊNCIA | H4: =INPC!E52 -> 54.014865 | I4: 46142
B5: 3M do Brasil Ltda | C5: 59720.33 | D5: =C5/1000/2.75 -> 21.716484 | E5: 42284 | G5: =C5/2750 -> 21.716484 | H5: =G5*$H$4 -> 1173.0129 | I5: =ROUND(G5+H5,2) -> 1194.73 | L5: =B5&"= "&I5&";" -> 3M do Brasil Ltda = 1194,73;
B6: A B Loss e Cia Ltda | C6: 350939.14 | D6: =C6/1000/2.75 -> 127.61423 | E6: 42284 | G6: =C6/2750 -> 127.61423 | H6: =G6*$H$4 -> 6893.0656 | I6: =ROUND(G6+H6,2) -> 7020.68 | L6: =B6&"= "&I6&";" -> A B Loss e Cia Ltda = 7020,68;
B7: A C L Com. e Verduras Ltda | C7: 2219664.8 | D7: =C7/1000/2.75 -> 807.15084 | E7: 42284 | G7: =C7/2750 -> 807.15084 | H7: =G7*$H$4 -> 43598.144 | I7: =ROUND(G7+H7,2) -> 44405.29 | L7: =B7&"= "&I7&";" -> A C L Com. e Verduras Ltda = 44405,29;
B8: Acacio Jorge Bruno Neves | C8: 1377613.1 | D8: =C8/1000/2.75 -> 500.95023 | E8: 42284 | G8: =C8/2750 -> 500.95023 | H8: =G8*$H$4 -> 27058.759 | I8: =ROUND(G8+H8,2) -> 27559.71 | L8: =B8&"= "&I8&";" -> Acacio Jorge Bruno Neves= 27559,71;
B9: ACG-Industria Alimentícia Ltda | C9: 360850.39 | D9: =C9/1000/2.75 -> 131.21832 | E9: 42284 | G9: =C9/2750 -> 131.21832 | H9: =G9*$H$4 -> 7087.7401 | I9: =ROUND(G9+H9,2) -> 7218.96 | L9: =B9&"= "&I9&";" -> ACG-Industria Alimentícia Ltda= 7218,96;
B10: Adolar Kasulke | C10: 603018.63 | D10: =C10/1000/2.75 -> 219.2795 | E10: 42284 | G10: =C10/2750 -> 219.2795 | H10: =G10*$H$4 -> 11844.353 | I10: =ROUND(G10+H10,2) -> 12063.63 | L10: =B10&"= "&I10&";" -> Adolar Kasulke= 12063,63;
B11: Agro Com. Novo Mundo Ltda | C11: 117165.12 | D11: =C11/1000/2.75 -> 42.605498 | E11: 42284 | G11: =C11/2750 -> 42.605498 | H11: =G11*$H$4 -> 2301.3303 | I11: =ROUND(G11+H11,2) -> 2343.94 | L11: =B11&"= "&I11&";" -> Agro Com. Novo Mundo Ltda = 2343,94;
B12: Agro Comercial Colombense Ltda | C12: 50061.92 | D12: =C12/1000/2.75 -> 18.204335 | E12: 42284 | G12: =C12/2750 -> 18.204335 | H12: =G12*$H$4 -> 983.30468 | I12: =ROUND(G12+H12,2) -> 1001.51 | L12: =B12&"= "&I12&";" -> Agro Comercial Colombense Ltda = 1001,51;
B13: Agroeliane S/A Ind. de Alimentos | C13: 2003842.3 | D13: =C13/1000/2.75 -> 728.66992 | E13: 42284 | G13: =C13/2750 -> 728.66992 | H13: =G13*$H$4 -> 39359.008 | I13: =ROUND(G13+H13,2) -> 40087.68 | L13: =B13&"= "&I13&";" -> Agroeliane S/A Ind. de Alimentos= 40087,68;
B14: Ailiram S/A Produtos Alimentícios | C14: 780005.23 | D14: =C14/1000/2.75 -> 283.63827 | E14: 42284 | G14: =C14/2750 -> 283.63827 | H14: =G14*$H$4 -> 15320.683 | I14: =ROUND(G14+H14,2) -> 15604.32 | L14: =B14&"= "&I14&";" -> Ailiram S/A Produtos Alimentícios = 15604,32;
B15: Albercht Carnes Nobres Ltda | C15: 3026066.3 | D15: =C15/1000/2.75 -> 1100.3877 | E15: 42284 | G15: =C15/2750 -> 1100.3877 | H15: =G15*$H$4 -> 59437.296 | I15: =ROUND(G15+H15,2) -> 60537.68 | L15: =B15&"= "&I15&";" -> Albercht Carnes Nobres Ltda= 60537,68;
B16: Alceu Breda e Cia Ltda | C16: 321761.63 | D16: =C16/1000/2.75 -> 117.00423 | E16: 42284 | G16: =C16/2750 -> 117.00423 | H16: =G16*$H$4 -> 6319.9677 | I16: =ROUND(G16+H16,2) -> 6436.97 | L16: =B16&"= "&I16&";" -> Alceu Breda e Cia Ltda = 6436,97;
... B121: Formularios Ltda | C121: 200247.69 | D121: =C121/1000/2.75 -> 72.817342 | E121: 42284 | G121: =C121/2750 -> 72.817342 | H121: =G121*$H$4 -> 3933.2189 | I121: =ROUND(G121+H121,2) -> 4006.04 | L121: =B121&"= "&I121&";" -> Formularios Ltda = 4006,04;
B122: Frangos Camboriú Com. e Abate Ltda | C122: 6206667.2 | D122: =C122/1000/2.75 -> 2256.9699 | E122: 42284 | F122: Fls. 61-62 | G122: =C122/2750 -> 2256.9699 | H122: =G122*$H$4 -> 121909.93 | I122: =ROUND(G122+H122,2) -> 124166.9 | L122: =B122&"= "&I122&";" -> Frangos Camboriú Com. e Abate Ltda= 124166,9;
B123: Franzner Alimentos Ltda | C123: 1359054.8 | D123: =C123/1000/2.75 -> 494.20175 | E123: 42284 | G123: =C123/2750 -> 494.20175 | H123: =G123*$H$4 -> 26694.241 | I123: =ROUND(G123+H123,2) -> 27188.44 | L123: =B123&"= "&I123&";" -> Franzner Alimentos Ltda= 27188,44;
B124: Freitag Import. e Export. Ltda | C124: 419812.21 | D124: =C124/1000/2.75 -> 152.65899 | E124: 42284 | G124: =C124/2750 -> 152.65899 | H124: =G124*$H$4 -> 8245.8546 | I124: =ROUND(G124+H124,2) -> 8398.51 | L124: =B124&"= "&I124&";" -> Freitag Import. e Export. Ltda = 8398,51;
B125: Frigorifico Cemim Ltda | C125: 36593244 | D125: =C125/1000/2.75 -> 13306.634 | E125: 42284 | G125: =C125/2750 -> 13306.634 | H125: =G125*$H$4 -> 718756.05 | I125: =ROUND(G125+H125,2) -> 732062.68 | L125: =B125&"= "&I125&";" -> Frigorifico Cemim Ltda= 732062,68;
B126: Frigorifico Gumz S/A | C126: 2206416.1 | D126: =C126/1000/2.75 -> 802.33312 | E126: 42284 | G126: =C126/2750 -> 802.33312 | H126: =G126*$H$4 -> 43337.916 | I126: =ROUND(G126+H126,2) -> 44140.25 | L126: =B126&"= "&I126&";" -> Frigorifico Gumz S/A = 44140,25;
B127: Fritex Ind. Alimenticias Lisboense Ltda | C127: 1179135.3 | D127: =C127/1000/2.75 -> 428.77647 | E127: 42284 | G127: =C127/2750 -> 428.77647 | H127: =G127*$H$4 -> 23160.303 | I127: =ROUND(G127+H127,2) -> 23589.08 | L127: =B127&"= "&I127&";" -> Fritex Ind. Alimenticias Lisboense Ltda = 23589,08;
B128: Fruvil Com. de Frutas Ltda | C128: 30340.56 | D128: =C128/1000/2.75 -> 11.032931 | E128: 42284 | G128: =C128/2750 -> 11.032931 | H128: =G128*$H$4 -> 595.94228 | I128: =ROUND(G128+H128,2) -> 606.98 | L128: =B128&"= "&I128&";" -> Fruvil Com. de Frutas Ltda = 606,98;
B129: Galpão Ind. Com. de Alimentos Ltda | C129: 41465.43 | D129: =C129/1000/2.75 -> 15.078338 | E129: 42284 | G129: =C129/2750 -> 15.078338 | H129: =G129*$H$4 -> 814.45441 | I129: =ROUND(G129+H129,2) -> 829.53 | L129: =B129&"= "&I129&";" -> Galpão Ind. Com. de Alimentos Ltda = 829,53;
B130: Garpe Com. E Repr. Ltda | C130: 1216858.7 | D130: =C130/1000/2.75 -> 442.49408 | E130: 42284 | G130: =C130/2750 -> 442.49408 | H130: =G130*$H$4 -> 23901.258 | I130: =ROUND(G130+H130,2) -> 24343.75 | L130: =B130&"= "&I130&";" -> Garpe Com. E Repr. Ltda= 24343,75;
B131: Gessy Lever Alimentos Ltda | C131: 248893.72 | D131: =C131/1000/2.75 -> 90.506807 | E131: 42284 | G131: =C131/2750 -> 90.506807 | H131: =G131*$H$4 -> 4888.713 | I131: =ROUND(G131+H131,2) -> 4979.22 | L131: =B131&"= "&I131&";" -> Gessy Lever Alimentos Ltda = 4979,22;
B132: Gloria Distr. de Produtos Alimentos Ltda | C132: 10215414 | D132: =C132/1000/2.75 -> 3714.6959 | E132: 42284 | G132: =C132/2750 -> 3714.6959 | H132: =G132*$H$4 -> 200648.8 | I132: =ROUND(G132+H132,2) -> 204363.49 | L132: =B132&"= "&I132&";" -> Gloria Distr. de Produtos Alimentos Ltda= 204363,49;
B133: Gonzalez e Cia Ltda | C133: 160147.58 | D133: =C133/1000/2.75 -> 58.235484 | E133: 42284 | G133: =C133/2750 -> 58.235484 | H133: =G133*$H$4 -> 3145.5818 | I133: =ROUND(G133+H133,2) -> 3203.82 | L133: =B133&"= "&I133&";" -> Gonzalez e Cia Ltda= 3203,82;
B134: Gráfica Mapel Ltda | C134: 385982.49 | D134: =C134/1000/2.75 -> 140.35727 | E134: 42284 | G134: =C134/2750 -> 140.35727 | H134: =G134*$H$4 -> 7581.379 | I134: =ROUND(G134+H134,2) -> 7721.74 | L134: =B134&"= "&I134&";" -> Gráfica Mapel Ltda= 7721,74;
... B298: York S/A Ind. Com. | C298: 338954.62 | D298: =C298/1000/2.75 -> 123.25623 | E298: 42284 | G298: =C298/2750 -> 123.25623 | H298: =G298*$H$4 -> 6657.6684 | I298: =ROUND(G298+H298,2) -> 6780.92 | L298: =B298&"= "&I298&";" -> York S/A Ind. Com.= 6780,92;
B299: TOTAL | C299: =SUM(C5:C298) -> 5.2718054e+08 | D299: =SUM(D5:D298) -> 191702.01 | E299: =SUM(E5:E298) -> 12431496 | F299: =SUM(F5:F298) -> 0 | G299: =SUM(G5:G298) -> 191702.01 | H299: =SUM(H5:H298) -> 10354758 | I299: =SUM(I5:I298) -> 10546460

Sheet Multa
B1: SUPERMERCADO RIACHUELO
B2: CNPJ 84.684.380/0001-10
B6: Quadro 5 - MULTAS
B7: CREDOR | C7: TIPO | D7: ANO DO DÉBITO | H7: MOEDA | I7: VALOR ORIGINAL | J7: VALOR ATUALIZADO | K7: REVISÃO AJ 05/03/2019 | L7: REVISÃO AJ 2021 | O7: REVISÃO AJ 30/04/2025 E 16/07/2025 | Q7: REVISÃO AJ 29/05/2026
E8: INSCRIÇÃO | F8: MULTA | G8: REFERÊNCIA | K8: VALOR | L8: VALOR | M8: DATA DA ATUALIZAÇÃO | N8: REFERÊNCIA | O8: VALOR | P8: REFERÊNCIA | Q8: VALOR | R8: REFERÊNCIA | S8: OBSERVAÇÃO
B9: Municipio de Joinville | C9: IPTU - Dívida Ativa - IM 13.20.15.81.2454.0000 | D9: 1988 | E9: 42122 | F9: 14.36 | G9: FLS. 2129 A 2149 | J9: 0
B10: Municipio de Joinville | C10: IPTU - Dívida Ativa - IM 13.20.15.81.2454.0000 | D10: 1989 | E10: 42122 | F10: 10.76 | G10: FLS. 2129 A 2150 | J10: 0
